BEGIN:VCALENDAR
VERSION:2.0
PRODID:-//Pingvinnyt - ECPv6.15.20//NONSGML v1.0//EN
CALSCALE:GREGORIAN
METHOD:PUBLISH
X-WR-CALNAME:Pingvinnyt
X-ORIGINAL-URL:https://pingvinnyt.dk
X-WR-CALDESC:Begivenheder for Pingvinnyt
REFRESH-INTERVAL;VALUE=DURATION:PT1H
X-Robots-Tag:noindex
X-PUBLISHED-TTL:PT1H
BEGIN:VTIMEZONE
TZID:Europe/Copenhagen
BEGIN:DAYLIGHT
TZOFFSETFROM:+0100
TZOFFSETTO:+0200
TZNAME:CEST
DTSTART:20250330T010000
END:DAYLIGHT
BEGIN:STANDARD
TZOFFSETFROM:+0200
TZOFFSETTO:+0100
TZNAME:CET
DTSTART:20251026T010000
END:STANDARD
BEGIN:DAYLIGHT
TZOFFSETFROM:+0100
TZOFFSETTO:+0200
TZNAME:CEST
DTSTART:20260329T010000
END:DAYLIGHT
BEGIN:STANDARD
TZOFFSETFROM:+0200
TZOFFSETTO:+0100
TZNAME:CET
DTSTART:20261025T010000
END:STANDARD
BEGIN:DAYLIGHT
TZOFFSETFROM:+0100
TZOFFSETTO:+0200
TZNAME:CEST
DTSTART:20270328T010000
END:DAYLIGHT
BEGIN:STANDARD
TZOFFSETFROM:+0200
TZOFFSETTO:+0100
TZNAME:CET
DTSTART:20271031T010000
END:STANDARD
END:VTIMEZONE
BEGIN:VEVENT
DTSTART;TZID=Europe/Copenhagen:20260427T190000
DTEND;TZID=Europe/Copenhagen:20260427T190000
DTSTAMP:20260420T040047
CREATED:20260410T154421Z
LAST-MODIFIED:20260410T154731Z
UID:327032-1777316400-1777316400@pingvinnyt.dk
SUMMARY:Forårskoncert
DESCRIPTION:Hadsten Sangforening har i mange år inviteret til forårskoncert.  \nI år bliver det mandag den 27. april kl. 1900. \nSidste år blev koncerten for første gang gennemført i foreningens eget sangerhus\, Granvej 12 B i Hadsten. \nDet viste sig at fungere godt\, så koncerten gennemføres i år samme sted. \nForeningens mandskor bliver ledet af korets nye dirigent Philip Hoe. Det bliver første gang at Philip står i spidsen for koret til en koncert. Det er håbet\, at fornyelsen kan tiltrække nye sangere. \nDirigenten er korets yngste mand\, men samarbejdet fungerer virkelig godt\, og der er tydeligt ”pustet nyt liv” i korsangen hver mandag aften.  \nUnder forårskoncerten præsenteres et varieret program med både nyere og kendte sange. \nPublikum får også rørt stemmebåndet\, da der vil være en del fællessange. \nForårskoncerten er gratis.
URL:https://pingvinnyt.dk/begivenhed/foraarskoncert/
CATEGORIES:Koncert
ATTACH;FMTTYPE=image/png:https://pingvinnyt.dk/wp-content/uploads/2026/04/Unavngivet-1.png
END:VEVENT
END:VCALENDAR